Package: ISoLDE Version: 1.38.0 Command: /home/biocbuild/bbs-3.22-bioc/R/bin/R CMD INSTALL ISoLDE StartedAt: 2025-11-06 15:01:36 -0500 (Thu, 06 Nov 2025) EndedAt: 2025-11-06 15:01:44 -0500 (Thu, 06 Nov 2025) EllapsedTime: 7.8 seconds RetCode: 0 Status: OK