Package: ISoLDE Version: 1.38.0 Command: /home/biocbuild/bbs-3.22-bioc/R/bin/R CMD build --keep-empty-dirs --no-resave-data --md5 ISoLDE StartedAt: 2025-11-06 18:19:02 -0500 (Thu, 06 Nov 2025) EndedAt: 2025-11-06 18:19:03 -0500 (Thu, 06 Nov 2025) EllapsedTime: 1.0 seconds RetCode: 0 Status: OK PackageFile: ISoLDE_1.38.0.tar.gz PackageFileSize: 1.229 MiB