Package: ISLET Version: 1.12.0 Command: /home/biocbuild/bbs-3.22-bioc/R/bin/R CMD INSTALL ISLET StartedAt: 2025-11-11 15:22:56 -0500 (Tue, 11 Nov 2025) EndedAt: 2025-11-11 15:23:21 -0500 (Tue, 11 Nov 2025) EllapsedTime: 24.7 seconds RetCode: 0 Status: OK