Package: ISLET Version: 1.12.0 Command: /home/biocbuild/bbs-3.22-bioc/R/bin/R CMD build --keep-empty-dirs --no-resave-data --md5 ISLET StartedAt: 2025-11-11 18:24:06 -0500 (Tue, 11 Nov 2025) EndedAt: 2025-11-11 18:27:31 -0500 (Tue, 11 Nov 2025) EllapsedTime: 205.3 seconds RetCode: 0 Status: OK PackageFile: ISLET_1.12.0.tar.gz PackageFileSize: 2.186 MiB