Package: ISLET Version: 1.10.0 Command: /home/biocbuild/R/R/bin/R CMD INSTALL ISLET StartedAt: 2025-10-13 20:31:26 -0000 (Mon, 13 Oct 2025) EndedAt: 2025-10-13 20:32:02 -0000 (Mon, 13 Oct 2025) EllapsedTime: 36.0 seconds RetCode: 0 Status: OK