Package: ISLET Version: 1.10.0 Command: /home/biocbuild/R/R/bin/R CMD build --keep-empty-dirs --no-resave-data ISLET StartedAt: 2025-10-14 01:54:38 -0000 (Tue, 14 Oct 2025) EndedAt: 2025-10-14 01:59:59 -0000 (Tue, 14 Oct 2025) EllapsedTime: 321.1 seconds RetCode: 0 Status: OK PackageFile: ISLET_1.10.0.tar.gz PackageFileSize: 2.21 MiB