Package: ISLET Version: 1.12.0 Command: /Library/Frameworks/R.framework/Resources/bin/R CMD INSTALL ISLET StartedAt: 2025-11-06 15:12:40 -0500 (Thu, 06 Nov 2025) EndedAt: 2025-11-06 15:12:51 -0500 (Thu, 06 Nov 2025) EllapsedTime: 10.6 seconds RetCode: 0 Status: OK