Package: ISLET Version: 1.12.0 Command: /Library/Frameworks/R.framework/Resources/bin/R CMD build --keep-empty-dirs --no-resave-data ISLET StartedAt: 2025-11-06 16:48:37 -0500 (Thu, 06 Nov 2025) EndedAt: 2025-11-06 16:49:49 -0500 (Thu, 06 Nov 2025) EllapsedTime: 72.9 seconds RetCode: 0 Status: OK PackageFile: ISLET_1.12.0.tar.gz PackageFileSize: 2.185 MiB