Package: ISLET Version: 1.12.0 Command: rm -rf ISLET.buildbin-libdir && mkdir ISLET.buildbin-libdir && /Users/biocbuild/BBS/utils/build-universal.sh ISLET_1.12.0.tar.gz /Library/Frameworks/R.framework/Resources/bin/R ISLET.buildbin-libdir StartedAt: 2025-11-06 23:09:21 -0500 (Thu, 06 Nov 2025) EndedAt: 2025-11-06 23:09:33 -0500 (Thu, 06 Nov 2025) EllapsedTime: 11.2 seconds RetCode: 0 Status: OK PackageFile: ISLET_1.12.0.tgz PackageFileSize: 1.522 MiB