Package: ISAnalytics Version: 1.20.0 Command: /home/biocbuild/R/R/bin/R CMD build --keep-empty-dirs --no-resave-data ISAnalytics StartedAt: 2025-11-11 02:39:10 -0000 (Tue, 11 Nov 2025) EndedAt: 2025-11-11 02:42:57 -0000 (Tue, 11 Nov 2025) EllapsedTime: 227.1 seconds RetCode: 0 Status: OK PackageFile: ISAnalytics_1.20.0.tar.gz PackageFileSize: 8.514 MiB