Package: ISAnalytics Version: 1.20.0 Command: /home/biocbuild/bbs-3.22-bioc/R/bin/R CMD INSTALL ISAnalytics StartedAt: 2025-11-11 15:13:19 -0500 (Tue, 11 Nov 2025) EndedAt: 2025-11-11 15:13:47 -0500 (Tue, 11 Nov 2025) EllapsedTime: 27.7 seconds RetCode: 0 Status: OK