Package: ISAnalytics Version: 1.18.0 Command: /Library/Frameworks/R.framework/Resources/bin/R CMD build --keep-empty-dirs --no-resave-data ISAnalytics StartedAt: 2025-10-13 19:57:55 -0400 (Mon, 13 Oct 2025) EndedAt: 2025-10-13 20:04:17 -0400 (Mon, 13 Oct 2025) EllapsedTime: 382.3 seconds RetCode: 0 Status: OK PackageFile: ISAnalytics_1.18.0.tar.gz PackageFileSize: 4.445 MiB