Package: IRanges Version: 2.44.0 Command: /home/biocbuild/bbs-3.22-bioc/R/bin/R CMD INSTALL IRanges StartedAt: 2025-11-13 15:13:40 -0500 (Thu, 13 Nov 2025) EndedAt: 2025-11-13 15:14:36 -0500 (Thu, 13 Nov 2025) EllapsedTime: 55.9 seconds RetCode: 0 Status: OK