Package: IRanges Version: 2.42.0 Command: /home/biocbuild/R/R/bin/R CMD INSTALL IRanges StartedAt: 2025-10-13 20:24:58 -0000 (Mon, 13 Oct 2025) EndedAt: 2025-10-13 20:26:28 -0000 (Mon, 13 Oct 2025) EllapsedTime: 89.4 seconds RetCode: 0 Status: OK