Package: IRanges Version: 2.42.0 Command: /home/biocbuild/R/R/bin/R CMD build --keep-empty-dirs --no-resave-data IRanges StartedAt: 2025-10-14 01:52:41 -0000 (Tue, 14 Oct 2025) EndedAt: 2025-10-14 01:54:29 -0000 (Tue, 14 Oct 2025) EllapsedTime: 107.0 seconds RetCode: 0 Status: OK PackageFile: IRanges_2.42.0.tar.gz PackageFileSize: 464.3 KiB