Package: IPO Version: 1.36.0 Command: /home/biocbuild/bbs-3.22-bioc/R/bin/R CMD INSTALL IPO StartedAt: 2025-11-11 15:47:11 -0500 (Tue, 11 Nov 2025) EndedAt: 2025-11-11 15:47:57 -0500 (Tue, 11 Nov 2025) EllapsedTime: 46.3 seconds RetCode: 0 Status: OK