Package: IPO Version: 1.36.0 Command: /home/biocbuild/bbs-3.22-bioc/R/bin/R CMD build --keep-empty-dirs --no-resave-data --md5 IPO StartedAt: 2025-11-11 18:22:23 -0500 (Tue, 11 Nov 2025) EndedAt: 2025-11-11 18:38:35 -0500 (Tue, 11 Nov 2025) EllapsedTime: 972.0 seconds RetCode: 0 Status: OK PackageFile: IPO_1.36.0.tar.gz PackageFileSize: 769.5 KiB