Package: IONiseR Version: 2.34.0 Command: /home/biocbuild/bbs-3.22-bioc/R/bin/R CMD INSTALL IONiseR StartedAt: 2025-11-11 15:55:58 -0500 (Tue, 11 Nov 2025) EndedAt: 2025-11-11 15:56:33 -0500 (Tue, 11 Nov 2025) EllapsedTime: 35.7 seconds RetCode: 0 Status: OK