Package: IONiseR Version: 2.34.0 Command: /home/biocbuild/bbs-3.22-bioc/R/bin/R CMD build --keep-empty-dirs --no-resave-data --md5 IONiseR StartedAt: 2025-11-11 18:22:05 -0500 (Tue, 11 Nov 2025) EndedAt: 2025-11-11 18:23:48 -0500 (Tue, 11 Nov 2025) EllapsedTime: 103.1 seconds RetCode: 0 Status: OK PackageFile: IONiseR_2.34.0.tar.gz PackageFileSize: 4.585 MiB