Package: IONiseR Version: 2.32.0 Command: /home/biocbuild/R/R/bin/R CMD INSTALL IONiseR StartedAt: 2025-10-13 21:08:17 -0000 (Mon, 13 Oct 2025) EndedAt: 2025-10-13 21:09:07 -0000 (Mon, 13 Oct 2025) EllapsedTime: 49.2 seconds RetCode: 0 Status: OK