Package: IONiseR Version: 2.34.0 Command: /Library/Frameworks/R.framework/Resources/bin/R CMD INSTALL IONiseR StartedAt: 2025-10-31 15:30:12 -0400 (Fri, 31 Oct 2025) EndedAt: 2025-10-31 15:30:26 -0400 (Fri, 31 Oct 2025) EllapsedTime: 14.5 seconds RetCode: 0 Status: OK