Package: IONiseR Version: 2.34.0 Command: /Library/Frameworks/R.framework/Resources/bin/R CMD build --keep-empty-dirs --no-resave-data IONiseR StartedAt: 2025-10-31 16:51:19 -0400 (Fri, 31 Oct 2025) EndedAt: 2025-10-31 16:52:16 -0400 (Fri, 31 Oct 2025) EllapsedTime: 56.7 seconds RetCode: 0 Status: OK PackageFile: IONiseR_2.34.0.tar.gz PackageFileSize: 4.186 MiB