Package: INTACT Version: 1.10.0 Command: /home/biocbuild/bbs-3.22-bioc/R/bin/R CMD check --install=check:INTACT.install-out.txt --library=/home/biocbuild/bbs-3.22-bioc/R/site-library --timings INTACT_1.10.0.tar.gz StartedAt: 2025-11-14 00:48:04 -0500 (Fri, 14 Nov 2025) EndedAt: 2025-11-14 00:48:48 -0500 (Fri, 14 Nov 2025) EllapsedTime: 44.0 seconds RetCode: 0 Status: OK CheckDir: INTACT.Rcheck Warnings: 0