Package: INTACT Version: 1.10.0 Command: /home/biocbuild/bbs-3.22-bioc/R/bin/R CMD build --keep-empty-dirs --no-resave-data --md5 INTACT StartedAt: 2025-11-11 18:20:18 -0500 (Tue, 11 Nov 2025) EndedAt: 2025-11-11 18:20:30 -0500 (Tue, 11 Nov 2025) EllapsedTime: 12.0 seconds RetCode: 0 Status: OK PackageFile: INTACT_1.10.0.tar.gz PackageFileSize: 2.508 MiB