Package: INTACT Version: 1.8.0 Command: /home/biocbuild/bbs-3.21-bioc/R/bin/R CMD INSTALL INTACT StartedAt: 2025-10-15 15:08:07 -0400 (Wed, 15 Oct 2025) EndedAt: 2025-10-15 15:08:12 -0400 (Wed, 15 Oct 2025) EllapsedTime: 4.8 seconds RetCode: 0 Status: OK