Package: INTACT Version: 1.8.0 Command: /home/biocbuild/bbs-3.21-bioc/R/bin/R CMD build --keep-empty-dirs --no-resave-data INTACT StartedAt: 2025-10-15 18:05:53 -0400 (Wed, 15 Oct 2025) EndedAt: 2025-10-15 18:06:05 -0400 (Wed, 15 Oct 2025) EllapsedTime: 12.0 seconds RetCode: 0 Status: OK PackageFile: INTACT_1.8.0.tar.gz PackageFileSize: 2.506 MiB