Package: INTACT Version: 1.10.0 Maintainer: Jeffrey Okamoto MaintainerEmail: jokamoto at umich.edu git_url: https://git.bioconductor.org/packages/INTACT git_branch: RELEASE_3_22 git_last_commit: 3b057f6 git_last_commit_date: 2025-10-29 11:20:42 -0400 (Wed, 29 Oct 2025)