Package: INSPEcT Version: 1.40.0 Command: /home/biocbuild/bbs-3.22-bioc/R/bin/R CMD INSTALL INSPEcT StartedAt: 2025-11-11 15:49:21 -0500 (Tue, 11 Nov 2025) EndedAt: 2025-11-11 15:50:22 -0500 (Tue, 11 Nov 2025) EllapsedTime: 60.9 seconds RetCode: 0 Status: OK