Package: INSPEcT Version: 1.40.0 Command: /home/biocbuild/bbs-3.22-bioc/R/bin/R CMD build --keep-empty-dirs --no-resave-data --md5 INSPEcT StartedAt: 2025-11-11 18:20:14 -0500 (Tue, 11 Nov 2025) EndedAt: 2025-11-11 18:27:22 -0500 (Tue, 11 Nov 2025) EllapsedTime: 427.5 seconds RetCode: 0 Status: OK PackageFile: INSPEcT_1.40.0.tar.gz PackageFileSize: 7.751 MiB