Package: INSPEcT Version: 1.38.0 Command: /home/biocbuild/bbs-3.21-bioc/R/bin/R CMD build --keep-empty-dirs --no-resave-data INSPEcT StartedAt: 2025-10-15 18:05:51 -0400 (Wed, 15 Oct 2025) EndedAt: 2025-10-15 18:12:55 -0400 (Wed, 15 Oct 2025) EllapsedTime: 423.4 seconds RetCode: 0 Status: OK PackageFile: INSPEcT_1.38.0.tar.gz PackageFileSize: 7.747 MiB