Package: INSPEcT Version: 1.38.0 Command: rm -rf INSPEcT.buildbin-libdir && mkdir INSPEcT.buildbin-libdir && /Users/biocbuild/BBS/utils/build-universal.sh INSPEcT_1.38.0.tar.gz /Library/Frameworks/R.framework/Resources/bin/R INSPEcT.buildbin-libdir StartedAt: 2025-04-22 00:50:51 -0400 (Tue, 22 Apr 2025) EndedAt: 2025-04-22 00:52:21 -0400 (Tue, 22 Apr 2025) EllapsedTime: 89.8 seconds RetCode: 0 Status: OK PackageFile: INSPEcT_1.38.0.tgz PackageFileSize: 8.727 MiB