Package: INSPEcT Version: 1.38.0 Command: /home/biocbuild/R/R/bin/R CMD INSTALL INSPEcT StartedAt: 2025-10-02 20:57:51 -0000 (Thu, 02 Oct 2025) EndedAt: 2025-10-02 20:59:18 -0000 (Thu, 02 Oct 2025) EllapsedTime: 87.5 seconds RetCode: 0 Status: OK