Package: INSPEcT Version: 1.38.0 Command: rm -rf INSPEcT.buildbin-libdir && mkdir INSPEcT.buildbin-libdir && /Users/biocbuild/BBS/utils/build-universal.sh INSPEcT_1.38.0.tar.gz /Library/Frameworks/R.framework/Resources/bin/R INSPEcT.buildbin-libdir StartedAt: 2025-04-21 22:39:04 -0400 (Mon, 21 Apr 2025) EndedAt: 2025-04-21 22:39:33 -0400 (Mon, 21 Apr 2025) EllapsedTime: 29.7 seconds RetCode: 0 Status: OK PackageFile: INSPEcT_1.38.0.tgz PackageFileSize: 59.53 MiB