Package: INSPEcT Version: 1.38.0 Command: /Library/Frameworks/R.framework/Resources/bin/R CMD INSTALL INSPEcT StartedAt: 2025-10-13 17:35:20 -0400 (Mon, 13 Oct 2025) EndedAt: 2025-10-13 17:36:30 -0400 (Mon, 13 Oct 2025) EllapsedTime: 70.3 seconds RetCode: 0 Status: OK