Package: INSPEcT Version: 1.38.0 Command: /Library/Frameworks/R.framework/Resources/bin/R CMD build --keep-empty-dirs --no-resave-data INSPEcT StartedAt: 2025-10-14 02:44:36 -0400 (Tue, 14 Oct 2025) EndedAt: 2025-10-14 02:52:03 -0400 (Tue, 14 Oct 2025) EllapsedTime: 446.3 seconds RetCode: 0 Status: OK PackageFile: INSPEcT_1.38.0.tar.gz PackageFileSize: 58.56 MiB