Package: INSPEcT Version: 1.40.0 Maintainer: Stefano de Pretis MaintainerEmail: ste.depo at gmail.com git_url: https://git.bioconductor.org/packages/INSPEcT git_branch: RELEASE_3_22 git_last_commit: c9f5ce1 git_last_commit_date: 2025-10-29 10:26:37 -0400 (Wed, 29 Oct 2025)