Package: INPower Version: 1.46.0 Command: /home/biocbuild/bbs-3.22-bioc/R/bin/R CMD INSTALL INPower StartedAt: 2025-11-11 15:07:25 -0500 (Tue, 11 Nov 2025) EndedAt: 2025-11-11 15:07:39 -0500 (Tue, 11 Nov 2025) EllapsedTime: 14.1 seconds RetCode: 0 Status: OK