Package: INPower Version: 1.46.0 Command: /home/biocbuild/bbs-3.22-bioc/R/bin/R CMD check --install=check:INPower.install-out.txt --library=/home/biocbuild/bbs-3.22-bioc/R/site-library --timings INPower_1.46.0.tar.gz StartedAt: 2025-11-14 00:48:01 -0500 (Fri, 14 Nov 2025) EndedAt: 2025-11-14 00:48:20 -0500 (Fri, 14 Nov 2025) EllapsedTime: 19.0 seconds RetCode: 0 Status: OK CheckDir: INPower.Rcheck Warnings: 0