Package: INPower Version: 1.46.0 Command: /Library/Frameworks/R.framework/Resources/bin/R CMD build --keep-empty-dirs --no-resave-data INPower StartedAt: 2025-11-03 17:28:01 -0500 (Mon, 03 Nov 2025) EndedAt: 2025-11-03 17:28:13 -0500 (Mon, 03 Nov 2025) EllapsedTime: 11.5 seconds RetCode: 0 Status: OK PackageFile: INPower_1.46.0.tar.gz PackageFileSize: 146.8 KiB