Package: INPower Version: 1.44.0 Command: /home/biocbuild/R/R/bin/R CMD INSTALL INPower StartedAt: 2025-10-06 20:13:53 -0000 (Mon, 06 Oct 2025) EndedAt: 2025-10-06 20:14:06 -0000 (Mon, 06 Oct 2025) EllapsedTime: 12.8 seconds RetCode: 0 Status: OK