Package: INPower Version: 1.44.0 Command: /home/biocbuild/R/R/bin/R CMD build --keep-empty-dirs --no-resave-data INPower StartedAt: 2025-10-07 01:52:48 -0000 (Tue, 07 Oct 2025) EndedAt: 2025-10-07 01:52:55 -0000 (Tue, 07 Oct 2025) EllapsedTime: 7.0 seconds RetCode: 0 Status: OK PackageFile: INPower_1.44.0.tar.gz PackageFileSize: 142.9 KiB