Package: INDEED Version: 2.24.0 Command: /home/biocbuild/bbs-3.22-bioc/R/bin/R CMD INSTALL INDEED StartedAt: 2025-11-11 15:15:47 -0500 (Tue, 11 Nov 2025) EndedAt: 2025-11-11 15:15:55 -0500 (Tue, 11 Nov 2025) EllapsedTime: 8.3 seconds RetCode: 0 Status: OK