Package: IMPCdata Version: 1.46.0 Command: /home/biocbuild/bbs-3.22-bioc/R/bin/R CMD check --install=check:IMPCdata.install-out.txt --library=/home/biocbuild/bbs-3.22-bioc/R/site-library --timings IMPCdata_1.46.0.tar.gz StartedAt: 2025-11-15 00:48:22 -0500 (Sat, 15 Nov 2025) EndedAt: 2025-11-15 00:50:33 -0500 (Sat, 15 Nov 2025) EllapsedTime: 131.1 seconds RetCode: 0 Status: OK CheckDir: IMPCdata.Rcheck Warnings: 0