Package: IMPCdata Version: 1.46.0 Command: /home/biocbuild/bbs-3.22-bioc/R/bin/R CMD build --keep-empty-dirs --no-resave-data --md5 IMPCdata StartedAt: 2025-11-11 18:19:29 -0500 (Tue, 11 Nov 2025) EndedAt: 2025-11-11 18:20:23 -0500 (Tue, 11 Nov 2025) EllapsedTime: 54.1 seconds RetCode: 0 Status: OK PackageFile: IMPCdata_1.46.0.tar.gz PackageFileSize: 108.2 KiB