Package: IMPCdata Version: 1.46.0 Command: /Library/Frameworks/R.framework/Resources/bin/R CMD INSTALL IMPCdata StartedAt: 2025-11-03 15:10:39 -0500 (Mon, 03 Nov 2025) EndedAt: 2025-11-03 15:11:06 -0500 (Mon, 03 Nov 2025) EllapsedTime: 27.5 seconds RetCode: 0 Status: OK