Package: IMPCdata Version: 1.44.0 Command: /home/biocbuild/R/R/bin/R CMD INSTALL IMPCdata StartedAt: 2025-10-09 20:14:54 -0000 (Thu, 09 Oct 2025) EndedAt: 2025-10-09 20:15:12 -0000 (Thu, 09 Oct 2025) EllapsedTime: 18.2 seconds RetCode: 0 Status: OK