Package: IMPCdata Version: 1.44.0 Command: /home/biocbuild/R/R/bin/R CMD build --keep-empty-dirs --no-resave-data IMPCdata StartedAt: 2025-10-10 01:49:12 -0000 (Fri, 10 Oct 2025) EndedAt: 2025-10-10 01:50:45 -0000 (Fri, 10 Oct 2025) EllapsedTime: 93.0 seconds RetCode: 0 Status: OK PackageFile: IMPCdata_1.44.0.tar.gz PackageFileSize: 104.5 KiB