Package: IMMAN Version: 1.30.0 Command: /home/biocbuild/bbs-3.22-bioc/R/bin/R CMD build --keep-empty-dirs --no-resave-data --md5 IMMAN StartedAt: 2025-11-11 18:18:05 -0500 (Tue, 11 Nov 2025) EndedAt: 2025-11-11 18:20:59 -0500 (Tue, 11 Nov 2025) EllapsedTime: 174.2 seconds RetCode: 0 Status: OK PackageFile: IMMAN_1.30.0.tar.gz PackageFileSize: 45.41 KiB