Package: IMMAN Version: 1.28.0 Command: /home/biocbuild/R/R/bin/R CMD INSTALL IMMAN StartedAt: 2025-10-13 21:10:36 -0000 (Mon, 13 Oct 2025) EndedAt: 2025-10-13 21:10:53 -0000 (Mon, 13 Oct 2025) EllapsedTime: 17.3 seconds RetCode: 0 Status: OK