Package: IMMAN Version: 1.28.0 Command: /home/biocbuild/R/R/bin/R CMD build --keep-empty-dirs --no-resave-data IMMAN StartedAt: 2025-10-14 01:47:17 -0000 (Tue, 14 Oct 2025) EndedAt: 2025-10-14 01:50:33 -0000 (Tue, 14 Oct 2025) EllapsedTime: 196.1 seconds RetCode: 0 Status: OK PackageFile: IMMAN_1.28.0.tar.gz PackageFileSize: 43.97 KiB